BEGIN:VCALENDAR
VERSION:2.0
PRODID:-//NEW UGLPOA - ECPv6.15.20//NONSGML v1.0//EN
CALSCALE:GREGORIAN
METHOD:PUBLISH
X-ORIGINAL-URL:https://uglpoa.org
X-WR-CALDESC:Events for NEW UGLPOA
REFRESH-INTERVAL;VALUE=DURATION:PT1H
X-Robots-Tag:noindex
X-PUBLISHED-TTL:PT1H
BEGIN:VTIMEZONE
TZID:America/New_York
BEGIN:DAYLIGHT
TZOFFSETFROM:-0500
TZOFFSETTO:-0400
TZNAME:EDT
DTSTART:20240310T070000
END:DAYLIGHT
BEGIN:STANDARD
TZOFFSETFROM:-0400
TZOFFSETTO:-0500
TZNAME:EST
DTSTART:20241103T060000
END:STANDARD
BEGIN:DAYLIGHT
TZOFFSETFROM:-0500
TZOFFSETTO:-0400
TZNAME:EDT
DTSTART:20250309T070000
END:DAYLIGHT
BEGIN:STANDARD
TZOFFSETFROM:-0400
TZOFFSETTO:-0500
TZNAME:EST
DTSTART:20251102T060000
END:STANDARD
BEGIN:DAYLIGHT
TZOFFSETFROM:-0500
TZOFFSETTO:-0400
TZNAME:EDT
DTSTART:20260308T070000
END:DAYLIGHT
BEGIN:STANDARD
TZOFFSETFROM:-0400
TZOFFSETTO:-0500
TZNAME:EST
DTSTART:20261101T060000
END:STANDARD
END:VTIMEZONE
BEGIN:VEVENT
DTSTART;TZID=America/New_York:20250829T080000
DTEND;TZID=America/New_York:20250829T170000
DTSTAMP:20260425T091848
CREATED:20250730T190338Z
LAST-MODIFIED:20250730T190338Z
UID:10000042-1756454400-1756486800@uglpoa.org
SUMMARY:Beach Bonfire
DESCRIPTION:
URL:https://uglpoa.org/event/beach-bonfire/
LOCATION:Beach\, 435 Lakeshore Drive\, Hewitt\, NJ\, 07421\, United States
END:VEVENT
BEGIN:VEVENT
DTSTART;TZID=America/New_York:20250816T190000
DTEND;TZID=America/New_York:20250816T220000
DTSTAMP:20260425T091848
CREATED:20250808T173058Z
LAST-MODIFIED:20250808T173311Z
UID:10001184-1755370800-1755381600@uglpoa.org
SUMMARY:Music Under the Stars
DESCRIPTION:
URL:https://uglpoa.org/event/music-on-the-beach-3/
LOCATION:Beach\, 435 Lakeshore Drive\, Hewitt\, NJ\, 07421\, United States
END:VEVENT
BEGIN:VEVENT
DTSTART;TZID=America/New_York:20250816T120000
DTEND;TZID=America/New_York:20250816T160000
DTSTAMP:20260425T091848
CREATED:20250804T145710Z
LAST-MODIFIED:20250808T173838Z
UID:10001181-1755345600-1755360000@uglpoa.org
SUMMARY:Annual Hot Dog Roast- POA Members Only
DESCRIPTION:
URL:https://uglpoa.org/event/hot-roast-on-the-beach/
LOCATION:Beach\, 435 Lakeshore Drive\, Hewitt\, NJ\, 07421\, United States
END:VEVENT
BEGIN:VEVENT
DTSTART;TZID=America/New_York:20250731T110000
DTEND;TZID=America/New_York:20250731T130000
DTSTAMP:20260425T091848
CREATED:20250604T193132Z
LAST-MODIFIED:20250604T193132Z
UID:10000040-1753959600-1753966800@uglpoa.org
SUMMARY:Swim Lessons
DESCRIPTION:
URL:https://uglpoa.org/event/swim-lessons-12/
LOCATION:Beach\, 435 Lakeshore Drive\, Hewitt\, NJ\, 07421\, United States
END:VEVENT
BEGIN:VEVENT
DTSTART;TZID=America/New_York:20250729T080000
DTEND;TZID=America/New_York:20250729T130000
DTSTAMP:20260425T091848
CREATED:20250604T193059Z
LAST-MODIFIED:20250604T193059Z
UID:10000039-1753776000-1753794000@uglpoa.org
SUMMARY:Swim Lessons
DESCRIPTION:
URL:https://uglpoa.org/event/swim-lessons-11/
LOCATION:Beach\, 435 Lakeshore Drive\, Hewitt\, NJ\, 07421\, United States
END:VEVENT
BEGIN:VEVENT
DTSTART;TZID=America/New_York:20250724T110000
DTEND;TZID=America/New_York:20250724T130000
DTSTAMP:20260425T091848
CREATED:20250604T193033Z
LAST-MODIFIED:20250604T193033Z
UID:10000038-1753354800-1753362000@uglpoa.org
SUMMARY:Swim Lessons
DESCRIPTION:
URL:https://uglpoa.org/event/swim-lessons-10/
LOCATION:Beach\, 435 Lakeshore Drive\, Hewitt\, NJ\, 07421\, United States
END:VEVENT
BEGIN:VEVENT
DTSTART;TZID=America/New_York:20250724T110000
DTEND;TZID=America/New_York:20250724T130000
DTSTAMP:20260425T091848
CREATED:20250604T192957Z
LAST-MODIFIED:20250604T192957Z
UID:10000037-1753354800-1753362000@uglpoa.org
SUMMARY:Swim Lessons
DESCRIPTION:
URL:https://uglpoa.org/event/swim-lessons-9/
LOCATION:Beach\, 435 Lakeshore Drive\, Hewitt\, NJ\, 07421\, United States
END:VEVENT
BEGIN:VEVENT
DTSTART;TZID=America/New_York:20250722T080000
DTEND;TZID=America/New_York:20250722T170000
DTSTAMP:20260425T091848
CREATED:20250604T192921Z
LAST-MODIFIED:20250604T192921Z
UID:10000036-1753171200-1753203600@uglpoa.org
SUMMARY:Swim Lessons
DESCRIPTION:
URL:https://uglpoa.org/event/swim-lessons-8/
LOCATION:Beach\, 435 Lakeshore Drive\, Hewitt\, NJ\, 07421\, United States
END:VEVENT
BEGIN:VEVENT
DTSTART;TZID=America/New_York:20250717T110000
DTEND;TZID=America/New_York:20250717T130000
DTSTAMP:20260425T091848
CREATED:20250604T192854Z
LAST-MODIFIED:20250604T192854Z
UID:10000035-1752750000-1752757200@uglpoa.org
SUMMARY:Swim Lessons
DESCRIPTION:
URL:https://uglpoa.org/event/swim-lessons-7/
LOCATION:Beach\, 435 Lakeshore Drive\, Hewitt\, NJ\, 07421\, United States
END:VEVENT
BEGIN:VEVENT
DTSTART;TZID=America/New_York:20250715T110000
DTEND;TZID=America/New_York:20250715T130000
DTSTAMP:20260425T091848
CREATED:20250604T192815Z
LAST-MODIFIED:20250604T192815Z
UID:10000034-1752577200-1752584400@uglpoa.org
SUMMARY:Swim Lessons
DESCRIPTION:
URL:https://uglpoa.org/event/swim-lessons-6/
LOCATION:Beach\, 435 Lakeshore Drive\, Hewitt\, NJ\, 07421\, United States
END:VEVENT
BEGIN:VEVENT
DTSTART;TZID=America/New_York:20250710T110000
DTEND;TZID=America/New_York:20250710T130000
DTSTAMP:20260425T091848
CREATED:20250604T192745Z
LAST-MODIFIED:20250604T192745Z
UID:10000033-1752145200-1752152400@uglpoa.org
SUMMARY:Swim Lessons
DESCRIPTION:
URL:https://uglpoa.org/event/swim-lessons-5/
LOCATION:Beach\, 435 Lakeshore Drive\, Hewitt\, NJ\, 07421\, United States
END:VEVENT
BEGIN:VEVENT
DTSTART;TZID=America/New_York:20250710T110000
DTEND;TZID=America/New_York:20250710T130000
DTSTAMP:20260425T091848
CREATED:20250604T192717Z
LAST-MODIFIED:20250604T192717Z
UID:10000032-1752145200-1752152400@uglpoa.org
SUMMARY:Swim Lessons
DESCRIPTION:
URL:https://uglpoa.org/event/swim-lessons-4/
LOCATION:Beach\, 435 Lakeshore Drive\, Hewitt\, NJ\, 07421\, United States
END:VEVENT
BEGIN:VEVENT
DTSTART;TZID=America/New_York:20250708T110000
DTEND;TZID=America/New_York:20250708T130000
DTSTAMP:20260425T091848
CREATED:20250604T192644Z
LAST-MODIFIED:20250604T192644Z
UID:10000031-1751972400-1751979600@uglpoa.org
SUMMARY:Swim Lessons
DESCRIPTION:
URL:https://uglpoa.org/event/swim-lessons-3/
LOCATION:Beach\, 435 Lakeshore Drive\, Hewitt\, NJ\, 07421\, United States
END:VEVENT
BEGIN:VEVENT
DTSTART;TZID=America/New_York:20250604T110000
DTEND;TZID=America/New_York:20250604T130000
DTSTAMP:20260425T091848
CREATED:20250604T192526Z
LAST-MODIFIED:20250604T192526Z
UID:10000030-1749034800-1749042000@uglpoa.org
SUMMARY:Swim Lessons
DESCRIPTION:
URL:https://uglpoa.org/event/swim-lessons-2/
LOCATION:Beach\, 435 Lakeshore Drive\, Hewitt\, NJ\, 07421\, United States
END:VEVENT
END:VCALENDAR