BEGIN:VCALENDAR
VERSION:2.0
PRODID:-//NEW UGLPOA - ECPv6.15.20//NONSGML v1.0//EN
CALSCALE:GREGORIAN
METHOD:PUBLISH
X-ORIGINAL-URL:https://uglpoa.org
X-WR-CALDESC:Events for NEW UGLPOA
REFRESH-INTERVAL;VALUE=DURATION:PT1H
X-Robots-Tag:noindex
X-PUBLISHED-TTL:PT1H
BEGIN:VTIMEZONE
TZID:America/New_York
BEGIN:DAYLIGHT
TZOFFSETFROM:-0500
TZOFFSETTO:-0400
TZNAME:EDT
DTSTART:20240310T070000
END:DAYLIGHT
BEGIN:STANDARD
TZOFFSETFROM:-0400
TZOFFSETTO:-0500
TZNAME:EST
DTSTART:20241103T060000
END:STANDARD
BEGIN:DAYLIGHT
TZOFFSETFROM:-0500
TZOFFSETTO:-0400
TZNAME:EDT
DTSTART:20250309T070000
END:DAYLIGHT
BEGIN:STANDARD
TZOFFSETFROM:-0400
TZOFFSETTO:-0500
TZNAME:EST
DTSTART:20251102T060000
END:STANDARD
BEGIN:DAYLIGHT
TZOFFSETFROM:-0500
TZOFFSETTO:-0400
TZNAME:EDT
DTSTART:20260308T070000
END:DAYLIGHT
BEGIN:STANDARD
TZOFFSETFROM:-0400
TZOFFSETTO:-0500
TZNAME:EST
DTSTART:20261101T060000
END:STANDARD
END:VTIMEZONE
BEGIN:VEVENT
DTSTART;TZID=America/New_York:20250816T100000
DTEND;TZID=America/New_York:20250816T120000
DTSTAMP:20260422T224029
CREATED:20250804T145832Z
LAST-MODIFIED:20250808T172536Z
UID:10001182-1755338400-1755345600@uglpoa.org
SUMMARY:POA General Election Meeting - POA Members Only
DESCRIPTION:ANNOUNCEMENT\nAUGUST 2025 POA PUBLIC MEETING\n \nThe Upper Greenwood Lake Property Owners Association\nGeneral Election and Budget Vote Meeting\nwill be held on:\nSaturday\, August 16 at 10 a.m.\n \nAs a POA MEMBER you are cordially invited to attend at\nThe UGL Clubhouse\n435 Lakeshore Drive\nHewitt\, NJ\n\nPROOF OF MEMBERSHIP MUST BE SHOWN AT THE DOOR.\nPlease try to come by boat or car pool.\n\nThank you\,\nUPPER GREENWOOD LAKE BOARD OF TRUSTEES
URL:https://uglpoa.org/event/town-meeting/
LOCATION:Clubhouse\, 435 Lakeshore Drive\, Hewitt\, NJ\, 07421\, United States
END:VEVENT
BEGIN:VEVENT
DTSTART;TZID=America/New_York:20250816T120000
DTEND;TZID=America/New_York:20250816T160000
DTSTAMP:20260422T224029
CREATED:20250804T145710Z
LAST-MODIFIED:20250808T173838Z
UID:10001181-1755345600-1755360000@uglpoa.org
SUMMARY:Annual Hot Dog Roast- POA Members Only
DESCRIPTION:
URL:https://uglpoa.org/event/hot-roast-on-the-beach/
LOCATION:Beach\, 435 Lakeshore Drive\, Hewitt\, NJ\, 07421\, United States
END:VEVENT
BEGIN:VEVENT
DTSTART;TZID=America/New_York:20250816T190000
DTEND;TZID=America/New_York:20250816T220000
DTSTAMP:20260422T224029
CREATED:20250808T173058Z
LAST-MODIFIED:20250808T173311Z
UID:10001184-1755370800-1755381600@uglpoa.org
SUMMARY:Music Under the Stars
DESCRIPTION:
URL:https://uglpoa.org/event/music-on-the-beach-3/
LOCATION:Beach\, 435 Lakeshore Drive\, Hewitt\, NJ\, 07421\, United States
END:VEVENT
END:VCALENDAR