BEGIN:VCALENDAR
VERSION:2.0
PRODID:-//NEW UGLPOA - ECPv6.15.20//NONSGML v1.0//EN
CALSCALE:GREGORIAN
METHOD:PUBLISH
X-WR-CALNAME:NEW UGLPOA
X-ORIGINAL-URL:https://uglpoa.org
X-WR-CALDESC:Events for NEW UGLPOA
REFRESH-INTERVAL;VALUE=DURATION:PT1H
X-Robots-Tag:noindex
X-PUBLISHED-TTL:PT1H
BEGIN:VTIMEZONE
TZID:America/New_York
BEGIN:DAYLIGHT
TZOFFSETFROM:-0500
TZOFFSETTO:-0400
TZNAME:EDT
DTSTART:20240310T070000
END:DAYLIGHT
BEGIN:STANDARD
TZOFFSETFROM:-0400
TZOFFSETTO:-0500
TZNAME:EST
DTSTART:20241103T060000
END:STANDARD
BEGIN:DAYLIGHT
TZOFFSETFROM:-0500
TZOFFSETTO:-0400
TZNAME:EDT
DTSTART:20250309T070000
END:DAYLIGHT
BEGIN:STANDARD
TZOFFSETFROM:-0400
TZOFFSETTO:-0500
TZNAME:EST
DTSTART:20251102T060000
END:STANDARD
BEGIN:DAYLIGHT
TZOFFSETFROM:-0500
TZOFFSETTO:-0400
TZNAME:EDT
DTSTART:20260308T070000
END:DAYLIGHT
BEGIN:STANDARD
TZOFFSETFROM:-0400
TZOFFSETTO:-0500
TZNAME:EST
DTSTART:20261101T060000
END:STANDARD
END:VTIMEZONE
BEGIN:VEVENT
DTSTART;TZID=America/New_York:20250114T183000
DTEND;TZID=America/New_York:20250114T210000
DTSTAMP:20260421T223211
CREATED:20250112T225036Z
LAST-MODIFIED:20250114T170721Z
UID:10000003-1736879400-1736888400@uglpoa.org
SUMMARY:Board of Directors Meeting
DESCRIPTION:6-6:30pm – Open to Community \n6:30pm-9pm – Board Members Only
URL:https://uglpoa.org/event/board-of-directors-meeting/
LOCATION:Clubhouse\, 435 Lakeshore Drive\, Hewitt\, NJ\, 07421\, United States
END:VEVENT
END:VCALENDAR